BEGIN:VCALENDAR
VERSION:2.0
PRODID:-//ChamberMaster//Event Calendar 2.0//EN
METHOD:PUBLISH
X-PUBLISHED-TTL:P1H
REFRESH-INTERVAL:P1H
CALSCALE:GREGORIAN
BEGIN:VTIMEZONE
TZID:America/Chicago
BEGIN:DAYLIGHT
RRULE:FREQ=YEARLY;BYMONTH=3;BYDAY=2SU
DTSTART:20070101T000000
TZOFFSETFROM:-0600
TZOFFSETTO:-0500
TZNAME:Central Daylight Time
END:DAYLIGHT
BEGIN:STANDARD
RRULE:FREQ=YEARLY;BYMONTH=11;BYDAY=1SU
DTSTART:20070101T000000
TZOFFSETFROM:-0500
TZOFFSETTO:-0600
TZNAME:Central Standard Time
END:STANDARD
END:VTIMEZONE
BEGIN:VEVENT
DTSTART;TZID=America/Chicago:20260425T140000
DTEND;TZID=America/Chicago:20260425T160000
X-MICROSOFT-CDO-ALLDAYEVENT:FALSE
SUMMARY:Community Open Play Pickleball event
DESCRIPTION:Click here to register:https://app.courtreserve.com//Online/Events/Details/10545/PCSN6CZ10545465?resId=49447107
X-ALT-DESC;FMTTYPE=text/html:<!DOCTYPE html><html><head><title></title></head><body aria-disabled="false"><p>Click here to register:</p><p><a fr-original-style="" href="https://linkprotect.cudasvc.com/url?a=https%3a%2f%2fapp.courtreserve.com%2f%2fOnline%2fEvents%2fDetails%2f10545%2fPCSN6CZ10545465%3fresId%3d49447107&c=E\,1\,mVCf3JdDJ_wofRJ31Usn0DtLlRyfmwUGkZUDM_vjHWOf-8TI9kDcKvtXTnMnT4iGu70Rik41fwjUjeHTsD3iMIfxr1tLbn_SsnXJLvCO_MzGTrE6ZA\,\,&typo=1" style="user-select: auto\;">https://app.courtreserve.com//Online/Events/Details/10545/PCSN6CZ10545465?resId=49447107</a></p></body></html>
LOCATION:7003 N Alpine Road Loves Park IL 61111
UID:e.4221.1421503
SEQUENCE:3
DTSTAMP:20260421T060611Z
URL:https://business.parkschamber.com/chamber-events-calendar/Details/community-open-play-pickleball-event-1680727?sourceTypeId=Hub
END:VEVENT
END:VCALENDAR
